BEGIN:VCALENDAR
VERSION:2.0
PRODID:-//Radiance Therapy Wellness - ECPv6.15.20//NONSGML v1.0//EN
CALSCALE:GREGORIAN
METHOD:PUBLISH
X-ORIGINAL-URL:https://radiance-therapy.com
X-WR-CALDESC:Events for Radiance Therapy Wellness
REFRESH-INTERVAL;VALUE=DURATION:PT1H
X-Robots-Tag:noindex
X-PUBLISHED-TTL:PT1H
BEGIN:VTIMEZONE
TZID:America/Los_Angeles
BEGIN:DAYLIGHT
TZOFFSETFROM:-0800
TZOFFSETTO:-0700
TZNAME:PDT
DTSTART:20240310T100000
END:DAYLIGHT
BEGIN:STANDARD
TZOFFSETFROM:-0700
TZOFFSETTO:-0800
TZNAME:PST
DTSTART:20241103T090000
END:STANDARD
BEGIN:DAYLIGHT
TZOFFSETFROM:-0800
TZOFFSETTO:-0700
TZNAME:PDT
DTSTART:20250309T100000
END:DAYLIGHT
BEGIN:STANDARD
TZOFFSETFROM:-0700
TZOFFSETTO:-0800
TZNAME:PST
DTSTART:20251102T090000
END:STANDARD
BEGIN:DAYLIGHT
TZOFFSETFROM:-0800
TZOFFSETTO:-0700
TZNAME:PDT
DTSTART:20260308T100000
END:DAYLIGHT
BEGIN:STANDARD
TZOFFSETFROM:-0700
TZOFFSETTO:-0800
TZNAME:PST
DTSTART:20261101T090000
END:STANDARD
BEGIN:DAYLIGHT
TZOFFSETFROM:-0800
TZOFFSETTO:-0700
TZNAME:PDT
DTSTART:20270314T100000
END:DAYLIGHT
BEGIN:STANDARD
TZOFFSETFROM:-0700
TZOFFSETTO:-0800
TZNAME:PST
DTSTART:20271107T090000
END:STANDARD
END:VTIMEZONE
BEGIN:VEVENT
DTSTART;TZID=America/Los_Angeles:20250501T140000
DTEND;TZID=America/Los_Angeles:20250504T140000
DTSTAMP:20260425T085702
CREATED:20250224T212638Z
LAST-MODIFIED:20250224T212744Z
UID:27856-1746108000-1746367200@radiance-therapy.com
SUMMARY:Yoga & Myofascial Release Retreat - May 2025
DESCRIPTION:A nurturing and therapeutic weekend combining restorative and gentle somatic yoga classes with self-myofascial release practices designed to soften connective tissue restrictions and restore harmony within the body. \nThe priority during this retreat is to facilitate sacred space for you to feel safe; and to help cultivate or enhance a reverent connection to your body and life. \nIn addition to yoga classes and myofascial release self treatment; guided meditation\, facilitated group sharing\, and mindful movement\, will be included in the retreat. \nFor an additional fee\, (please inquire for details\, space limited) up to two guests may receive a private craniosacral with myofascial release session with Jahara. \nOutside of structured time\, there will be an abundance of free space for you to enjoy the majesty of the landscape\, restore in the ways that you need\, meander amongst the trees\, soak in the salt water pool\, connect with someone new\, or simply sit quietly and reflect. \nThroughout the weekend\, all of your delicious meals will be prepared fresh on-site by Sagrada Wellness’s talented cooks — and always — infused with love. Meal times will be a wonderful opportunity for you to nourish your body while connecting with others. \nLastly\, if you find that you need some time to explore outside the bounds of the wellness center and want to take a trip to the coast… there are many breathtaking local beaches for you to nestle your feet under the sand\, bask in the sun\, or dive in the sea. \nWe hope you will join us for a weekend devoted to your healing… All bodies\, all hearts\, all levels welcome! \nTo register\, scroll down to the Event Venue Website link below.
URL:https://radiance-therapy.com/event/yoga-myofascial-release-retreat-may-2025/
LOCATION:Sagrada Wellness\, Santa Margarita\, San Luis Obispo County\, CA\, United States
ATTACH;FMTTYPE=image/jpeg:https://radiance-therapy.com/wp-content/uploads/2023/08/Work-Together-scaled.jpeg
END:VEVENT
BEGIN:VEVENT
DTSTART;TZID=America/Los_Angeles:20250525T140000
DTEND;TZID=America/Los_Angeles:20250525T163000
DTSTAMP:20260425T085702
CREATED:20250420T182839Z
LAST-MODIFIED:20250420T182839Z
UID:27864-1748181600-1748190600@radiance-therapy.com
SUMMARY:Yoga\, Somatics & Myofascial Release - May 2025
DESCRIPTION:Yoga\, Somatics & Myofascial Release\nA slow-paced\, yin style\, therapeutic workshop exploring gentle somatic movement and the connective tissue (fascia) that weaves everything in your body together as one.  \nYour fascia is a living\, sensing\, liquid crystalline seam system that has a tremendous influence on our body\, movement\, pain\, and self-awareness. \nThe focus of our time together will be on self-myofascial release practices\, using specialty massage balls\, therapeutic yoga poses\, and conscious movement where the emphasis is on the internal experience over the external appearance of movements or postures. \nThese somatic\, myofascial\, and yoga practices are designed to soften tension patterns\, enhance resilience in your body\, increase self-awareness and activate the relaxation response\, leaving you feeling restored and radiant from the inside out. \nThis workshop is appropriate for all levels.  \nThese workshops sell out quickly\, so register early! Click the website link below to save your spot.
URL:https://radiance-therapy.com/event/yoga-somatics-myofascial-release-may-2025-2/
LOCATION:Harmony House Yoga\, 991 Price Street\, Pismo Beach\, 93449\, United States
ATTACH;FMTTYPE=image/jpeg:https://radiance-therapy.com/wp-content/uploads/2023/05/event-Radiance-Roll-Revitalize.jpg
END:VEVENT
BEGIN:VEVENT
DTSTART;TZID=America/Los_Angeles:20250713T140000
DTEND;TZID=America/Los_Angeles:20250713T163000
DTSTAMP:20260425T085702
CREATED:20250615T182844Z
LAST-MODIFIED:20250615T182844Z
UID:27874-1752415200-1752424200@radiance-therapy.com
SUMMARY:Yoga\, Somatics & Myofascial Release - July 2025
DESCRIPTION:Yoga\, Somatics & Myofascial Release\nA slow-paced\, yin style\, therapeutic workshop exploring gentle somatic movement and the connective tissue (fascia) that weaves everything in your body together as one.  \nYour fascia is a living\, sensing\, liquid crystalline seam system that has a tremendous influence on our body\, movement\, pain\, and self-awareness. \nThe focus of our time together will be on self-myofascial release practices\, using specialty massage balls\, therapeutic yoga poses\, and conscious movement where the emphasis is on the internal experience over the external appearance of movements or postures. \nThese somatic\, myofascial\, and yoga practices are designed to soften tension patterns\, enhance resilience in your body\, increase self-awareness and activate the relaxation response\, leaving you feeling restored and radiant from the inside out. \nThis workshop is appropriate for all levels.  \nThese workshops sell out quickly\, register early! Click the website link below to save your spot.
URL:https://radiance-therapy.com/event/yoga-somatics-myofascial-release-july-2025/
LOCATION:Harmony House Yoga\, 991 Price Street\, Pismo Beach\, 93449\, United States
ATTACH;FMTTYPE=image/jpeg:https://radiance-therapy.com/wp-content/uploads/2023/05/event-Radiance-Roll-Revitalize.jpg
END:VEVENT
BEGIN:VEVENT
DTSTART;TZID=America/Los_Angeles:20251026T140000
DTEND;TZID=America/Los_Angeles:20251026T163000
DTSTAMP:20260425T085702
CREATED:20250916T202330Z
LAST-MODIFIED:20250916T202330Z
UID:27914-1761487200-1761496200@radiance-therapy.com
SUMMARY:Yoga\, Somatics & Myofascial Release - October 2025
DESCRIPTION:Yoga\, Somatics & Myofascial Release\nA slow-paced\, yin style\, therapeutic workshop exploring gentle somatic movement and the connective tissue (fascia) that weaves everything in your body together as one.  \nYour fascia is a living\, sensing\, liquid crystalline seam system that has a tremendous influence on our body\, movement\, pain\, and self-awareness. \nThe focus of our time together will be on self-myofascial release practices\, using specialty massage balls\, therapeutic yoga poses\, and conscious movement where the emphasis is on the internal experience over the external appearance of movements or postures. \nThese somatic\, myofascial\, and yoga practices are designed to soften tension patterns\, enhance resilience in your body\, increase self-awareness and activate the relaxation response\, leaving you feeling restored and radiant from the inside out. \nThis workshop is appropriate for all levels.  \nThese workshops sell out quickly\, register early! Click the website link below to save your spot.
URL:https://radiance-therapy.com/event/yoga-somatics-myofascial-release-october-2025-2/
LOCATION:Harmony House Yoga\, 991 Price Street\, Pismo Beach\, 93449\, United States
ATTACH;FMTTYPE=image/jpeg:https://radiance-therapy.com/wp-content/uploads/2023/05/event-Radiance-Roll-Revitalize.jpg
END:VEVENT
BEGIN:VEVENT
DTSTART;TZID=America/Los_Angeles:20260425T130000
DTEND;TZID=America/Los_Angeles:20260425T153000
DTSTAMP:20260425T085702
CREATED:20260329T211551Z
LAST-MODIFIED:20260329T211551Z
UID:27948-1777122000-1777131000@radiance-therapy.com
SUMMARY:Yoga\, Somatics & Myofascial Release - April 2026
DESCRIPTION:Yoga\, Somatics & Myofascial Release\nA slow-paced\, yin style\, therapeutic workshop exploring gentle somatic movement and the connective tissue (fascia) that weaves everything in your body together as one.  \nYour fascia is a living\, sensing\, liquid crystalline seam system that has a tremendous influence on our body\, movement\, pain\, and self-awareness. \nThe focus of our time together will be on self-myofascial release practices\, using specialty massage balls\, therapeutic yoga poses\, and conscious movement where the emphasis is on the internal experience over the external appearance of movements or postures. \nThese embodiment practices are designed to soften tension patterns\, enhance resilience in your body-mind\, increase self-awareness and activate the relaxation response. \nThis workshop is appropriate for all levels.  \nThese workshops sell out quickly\, register early! Click the website link below to save your spot.
URL:https://radiance-therapy.com/event/yoga-somatics-myofascial-release-april-2026/
LOCATION:Harmony House Yoga\, 991 Price Street\, Pismo Beach\, 93449\, United States
ATTACH;FMTTYPE=image/jpeg:https://radiance-therapy.com/wp-content/uploads/2023/05/event-Radiance-Roll-Revitalize.jpg
END:VEVENT
END:VCALENDAR