BEGIN:VCALENDAR
VERSION:2.0
PRODID:-//Radiance Therapy Wellness - ECPv6.15.20//NONSGML v1.0//EN
CALSCALE:GREGORIAN
METHOD:PUBLISH
X-WR-CALNAME:Radiance Therapy Wellness
X-ORIGINAL-URL:https://radiance-therapy.com
X-WR-CALDESC:Events for Radiance Therapy Wellness
REFRESH-INTERVAL;VALUE=DURATION:PT1H
X-Robots-Tag:noindex
X-PUBLISHED-TTL:PT1H
BEGIN:VTIMEZONE
TZID:America/Los_Angeles
BEGIN:DAYLIGHT
TZOFFSETFROM:-0800
TZOFFSETTO:-0700
TZNAME:PDT
DTSTART:20240310T100000
END:DAYLIGHT
BEGIN:STANDARD
TZOFFSETFROM:-0700
TZOFFSETTO:-0800
TZNAME:PST
DTSTART:20241103T090000
END:STANDARD
BEGIN:DAYLIGHT
TZOFFSETFROM:-0800
TZOFFSETTO:-0700
TZNAME:PDT
DTSTART:20250309T100000
END:DAYLIGHT
BEGIN:STANDARD
TZOFFSETFROM:-0700
TZOFFSETTO:-0800
TZNAME:PST
DTSTART:20251102T090000
END:STANDARD
BEGIN:DAYLIGHT
TZOFFSETFROM:-0800
TZOFFSETTO:-0700
TZNAME:PDT
DTSTART:20260308T100000
END:DAYLIGHT
BEGIN:STANDARD
TZOFFSETFROM:-0700
TZOFFSETTO:-0800
TZNAME:PST
DTSTART:20261101T090000
END:STANDARD
END:VTIMEZONE
BEGIN:VEVENT
DTSTART;TZID=America/Los_Angeles:20250220T140000
DTEND;TZID=America/Los_Angeles:20250223T140000
DTSTAMP:20260425T085311
CREATED:20250107T232719Z
LAST-MODIFIED:20250107T232719Z
UID:27842-1740060000-1740319200@radiance-therapy.com
SUMMARY:Yoga & Myofascial Release Retreat - February 2025
DESCRIPTION:A nurturing and therapeutic weekend combining restorative and gentle somatic yoga classes with self-myofascial release practices designed to soften connective tissue restrictions and restore harmony within the body. \nThe priority during this retreat is to facilitate sacred space for you to feel safe; and to help cultivate or enhance a reverent connection to your body and life. \nIn addition to yoga classes and myofascial release self treatment; guided meditation\, facilitated group sharing\, and mindful movement\, will be included in the retreat. \nFor an additional fee\, (please inquire for details\, space limited) up to two guests may receive a private craniosacral with myofascial release session with Jahara. \nOutside of structured time\, there will be an abundance of free space for you to enjoy the majesty of the landscape\, restore in the ways that you need\, meander amongst the trees\, soak in the salt water pool\, connect with someone new\, or simply sit quietly and reflect. \nThroughout the weekend\, all of your delicious meals will be prepared fresh on-site by Sagrada Wellness’s talented cooks — and always — infused with love. Meal times will be a wonderful opportunity for you to nourish your body while connecting with others. \nLastly\, if you find that you need some time to explore outside the bounds of the wellness center and want to take a trip to the coast… there are many breathtaking local beaches for you to nestle your feet under the sand\, bask in the sun\, or dive in the sea. \nWe hope you will join us for a weekend devoted to your healing… All bodies\, all hearts\, all levels welcome! \nTo register\, scroll down to the Event Venue Website link below.
URL:https://radiance-therapy.com/event/yoga-myofascial-release-retreat-february-2025/
LOCATION:Sagrada Wellness\, Santa Margarita\, San Luis Obispo County\, CA\, United States
ATTACH;FMTTYPE=image/jpeg:https://radiance-therapy.com/wp-content/uploads/2023/08/Work-Together-scaled.jpeg
END:VEVENT
END:VCALENDAR