BEGIN:VCALENDAR
VERSION:2.0
PRODID:-//Radiance Therapy Wellness - ECPv6.15.20//NONSGML v1.0//EN
CALSCALE:GREGORIAN
METHOD:PUBLISH
X-ORIGINAL-URL:https://radiance-therapy.com
X-WR-CALDESC:Events for Radiance Therapy Wellness
REFRESH-INTERVAL;VALUE=DURATION:PT1H
X-Robots-Tag:noindex
X-PUBLISHED-TTL:PT1H
BEGIN:VTIMEZONE
TZID:America/Los_Angeles
BEGIN:DAYLIGHT
TZOFFSETFROM:-0800
TZOFFSETTO:-0700
TZNAME:PDT
DTSTART:20230312T100000
END:DAYLIGHT
BEGIN:STANDARD
TZOFFSETFROM:-0700
TZOFFSETTO:-0800
TZNAME:PST
DTSTART:20231105T090000
END:STANDARD
BEGIN:DAYLIGHT
TZOFFSETFROM:-0800
TZOFFSETTO:-0700
TZNAME:PDT
DTSTART:20240310T100000
END:DAYLIGHT
BEGIN:STANDARD
TZOFFSETFROM:-0700
TZOFFSETTO:-0800
TZNAME:PST
DTSTART:20241103T090000
END:STANDARD
BEGIN:DAYLIGHT
TZOFFSETFROM:-0800
TZOFFSETTO:-0700
TZNAME:PDT
DTSTART:20250309T100000
END:DAYLIGHT
BEGIN:STANDARD
TZOFFSETFROM:-0700
TZOFFSETTO:-0800
TZNAME:PST
DTSTART:20251102T090000
END:STANDARD
END:VTIMEZONE
BEGIN:VEVENT
DTSTART;TZID=America/Los_Angeles:20240817T140000
DTEND;TZID=America/Los_Angeles:20240817T160000
DTSTAMP:20260425T184056
CREATED:20240630T194844Z
LAST-MODIFIED:20240817T172828Z
UID:27717-1723903200-1723910400@radiance-therapy.com
SUMMARY:Somatic Yoga & Myofascial Release - August 2024
DESCRIPTION:Somatic Yoga & Myofascial Release\nA slow-paced\, yin style\, therapeutic workshop exploring gentle somatic movement and the connective tissue (fascia) that weaves everything in your body together as one.  \nYour fascia is a living\, sensing\, liquid crystalline seam system that has a tremendous influence on our body\, movement\, pain\, and self-awareness. \nThe focus of our time together will be on self-myofascial release practices\, using specialty massage balls\, and somatic yoga explorations.  \nIn somatic yoga\, our emphasis is on the internal experience over the external appearance of movements or postures.\nThese somatic\, myofascial\, and yoga practices are designed to soften tension patterns\, enhance resilience in your body\, increase self-awareness and activate the relaxation response\, leaving you feeling restored and radiant from the inside out. \nThis workshop is appropriate for all levels. No previous experience needed. \nOffered online (from anywhere!) or in-person at Crow’s End Retreat Center in Avila\, CA.
URL:https://radiance-therapy.com/event/somatic-yoga-myofascial-release-august-2024/
LOCATION:Crows End Retreat Center\, 6430 Squire Ct #8021\, San Luis Obispo\, CA\, 93401\, United States
ATTACH;FMTTYPE=image/jpeg:https://radiance-therapy.com/wp-content/uploads/2023/05/event-Radiance-Roll-Revitalize.jpg
END:VEVENT
END:VCALENDAR