BEGIN:VCALENDAR
VERSION:2.0
PRODID:-//Radiance Therapy Wellness - ECPv6.15.20//NONSGML v1.0//EN
CALSCALE:GREGORIAN
METHOD:PUBLISH
X-ORIGINAL-URL:https://radiance-therapy.com
X-WR-CALDESC:Events for Radiance Therapy Wellness
REFRESH-INTERVAL;VALUE=DURATION:PT1H
X-Robots-Tag:noindex
X-PUBLISHED-TTL:PT1H
BEGIN:VTIMEZONE
TZID:America/Los_Angeles
BEGIN:DAYLIGHT
TZOFFSETFROM:-0800
TZOFFSETTO:-0700
TZNAME:PDT
DTSTART:20230312T100000
END:DAYLIGHT
BEGIN:STANDARD
TZOFFSETFROM:-0700
TZOFFSETTO:-0800
TZNAME:PST
DTSTART:20231105T090000
END:STANDARD
BEGIN:DAYLIGHT
TZOFFSETFROM:-0800
TZOFFSETTO:-0700
TZNAME:PDT
DTSTART:20240310T100000
END:DAYLIGHT
BEGIN:STANDARD
TZOFFSETFROM:-0700
TZOFFSETTO:-0800
TZNAME:PST
DTSTART:20241103T090000
END:STANDARD
BEGIN:DAYLIGHT
TZOFFSETFROM:-0800
TZOFFSETTO:-0700
TZNAME:PDT
DTSTART:20250309T100000
END:DAYLIGHT
BEGIN:STANDARD
TZOFFSETFROM:-0700
TZOFFSETTO:-0800
TZNAME:PST
DTSTART:20251102T090000
END:STANDARD
END:VTIMEZONE
BEGIN:VEVENT
DTSTART;TZID=America/Los_Angeles:20240726T180000
DTEND;TZID=America/Los_Angeles:20240726T200000
DTSTAMP:20260425T201650
CREATED:20240630T192747Z
LAST-MODIFIED:20240712T011835Z
UID:27715-1722016800-1722024000@radiance-therapy.com
SUMMARY:Sound and Somatics - July 2024
DESCRIPTION:Sound and Somatics\nMindfulness\, Sound Healing\, Somatic Movement & Myofascial Release for Deep Relaxation\nJoin Jahara Sara Seitz\, somatic occupational therapist\, and Jamie Nicole\, sound healer and mindfulness teacher\, for a luxurious two-hour workshop at a stunning retreat center in Avila\, CA. \nOur time together will weave mindfulness\, sound healing\, gentle somatic movement\, and self-myofascial release (massage) designed to leave you feeling nurtured\, rejuvenated\, and aligned with the wisdom of your body. These offerings are trauma-informed and will place an overall emphasis on inner-resourcing. \nThe priority during this workshop is to facilitate sacred space for you to feel safe\, to cultivate a reverent connection to yourself\, create opportunity for compassion\, and to soften tension in the body. \nYou will learn simple\, gentle somatic movement and self-massage practices designed to release restrictions in the body-wide connective tissue\, reduce soreness\, pain\, or fatigue\, improve mobility\, and optimize your overall wellness.\nYou will then be invited to relax in stillness while being bathed in a healing sound bath. A space for you to release the burdens of stress\, embody compassionate awareness\, and radically accept all parts of yourself. \nYou are invited to arrive a little bit early or stay later after the workshop to walk the beautiful labyrinth on the land as a way to integrate\, reflect\, and connect with nature. \nThese events sell out quickly so we encourage you to register early. Only 12 spots available!  \nInvestment: $50-65 sliding scale – CLICK WEBSITE LINK BELOW TO REGISTER.
URL:https://radiance-therapy.com/event/sound-and-somatics-july-2024/
LOCATION:Crows End Retreat Center\, 6430 Squire Ct #8021\, San Luis Obispo\, CA\, 93401\, United States
ATTACH;FMTTYPE=image/png:https://radiance-therapy.com/wp-content/uploads/2023/08/RadiantBodySoftHeart.png
END:VEVENT
END:VCALENDAR